BEGIN:VCALENDAR
VERSION:2.0
PRODID:-//St. John Augusta - ECPv6.14.0//NONSGML v1.0//EN
CALSCALE:GREGORIAN
METHOD:PUBLISH
X-WR-CALNAME:St. John Augusta
X-ORIGINAL-URL:https://www.stjohnaugusta.org
X-WR-CALDESC:Events for St. John Augusta
REFRESH-INTERVAL;VALUE=DURATION:PT1H
X-Robots-Tag:noindex
X-PUBLISHED-TTL:PT1H
BEGIN:VTIMEZONE
TZID:America/New_York
BEGIN:DAYLIGHT
TZOFFSETFROM:-0500
TZOFFSETTO:-0400
TZNAME:EDT
DTSTART:20260308T070000
END:DAYLIGHT
BEGIN:STANDARD
TZOFFSETFROM:-0400
TZOFFSETTO:-0500
TZNAME:EST
DTSTART:20261101T060000
END:STANDARD
END:VTIMEZONE
BEGIN:VEVENT
DTSTART;TZID=America/New_York:20260516T100000
DTEND;TZID=America/New_York:20260516T130000
DTSTAMP:20260421T071140
CREATED:20240517T000203Z
LAST-MODIFIED:20250709T015444Z
UID:10005154-1778925600-1778936400@www.stjohnaugusta.org
SUMMARY:DCCM drive thru food distribution
DESCRIPTION:In the parking lot behind the church
URL:https://www.stjohnaugusta.org/event/dccm-drive-thru-food-distribution-29/
LOCATION:736 Greene St\, Augusta\, GA\, United States
GEO:33.456687;-81.969184
END:VEVENT
END:VCALENDAR