BEGIN:VCALENDAR
VERSION:2.0
PRODID:-//St. John Augusta - ECPv6.14.0//NONSGML v1.0//EN
CALSCALE:GREGORIAN
METHOD:PUBLISH
X-WR-CALNAME:St. John Augusta
X-ORIGINAL-URL:https://www.stjohnaugusta.org
X-WR-CALDESC:Events for St. John Augusta
REFRESH-INTERVAL;VALUE=DURATION:PT1H
X-Robots-Tag:noindex
X-PUBLISHED-TTL:PT1H
BEGIN:VTIMEZONE
TZID:America/New_York
BEGIN:DAYLIGHT
TZOFFSETFROM:-0500
TZOFFSETTO:-0400
TZNAME:EDT
DTSTART:20260308T070000
END:DAYLIGHT
BEGIN:STANDARD
TZOFFSETFROM:-0400
TZOFFSETTO:-0500
TZNAME:EST
DTSTART:20261101T060000
END:STANDARD
BEGIN:DAYLIGHT
TZOFFSETFROM:-0500
TZOFFSETTO:-0400
TZNAME:EDT
DTSTART:20270314T070000
END:DAYLIGHT
BEGIN:STANDARD
TZOFFSETFROM:-0400
TZOFFSETTO:-0500
TZNAME:EST
DTSTART:20271107T060000
END:STANDARD
END:VTIMEZONE
BEGIN:VEVENT
DTSTART;TZID=America/New_York:20261006T110000
DTEND;TZID=America/New_York:20261006T130000
DTSTAMP:20260421T083532
CREATED:20241006T223736Z
LAST-MODIFIED:20250709T015702Z
UID:10005490-1791284400-1791291600@www.stjohnaugusta.org
SUMMARY:Clothes Closet open
DESCRIPTION:Tuesdays 11-1pm\nNO Saturdays for now
URL:https://www.stjohnaugusta.org/event/clothes-closet-open-143/
LOCATION:432 8th St\, Augusta\, GA\, United States
GEO:33.456687;-81.969184
END:VEVENT
BEGIN:VEVENT
DTSTART;TZID=America/New_York:20261013T110000
DTEND;TZID=America/New_York:20261013T130000
DTSTAMP:20260421T083532
CREATED:20241013T003748Z
LAST-MODIFIED:20250709T015714Z
UID:10005500-1791889200-1791896400@www.stjohnaugusta.org
SUMMARY:Clothes Closet open
DESCRIPTION:Tuesdays 11-1pm\nNO Saturdays for now
URL:https://www.stjohnaugusta.org/event/clothes-closet-open-144/
LOCATION:432 8th St\, Augusta\, GA\, United States
GEO:33.456687;-81.969184
END:VEVENT
BEGIN:VEVENT
DTSTART;TZID=America/New_York:20261020T110000
DTEND;TZID=America/New_York:20261020T130000
DTSTAMP:20260421T083532
CREATED:20241020T030719Z
LAST-MODIFIED:20250709T015715Z
UID:10005507-1792494000-1792501200@www.stjohnaugusta.org
SUMMARY:Clothes Closet open
DESCRIPTION:Tuesdays 11-1pm\nNO Saturdays for now
URL:https://www.stjohnaugusta.org/event/clothes-closet-open-145/
LOCATION:432 8th St\, Augusta\, GA\, United States
GEO:33.456687;-81.969184
END:VEVENT
BEGIN:VEVENT
DTSTART;TZID=America/New_York:20261027T110000
DTEND;TZID=America/New_York:20261027T130000
DTSTAMP:20260421T083532
CREATED:20241027T053818Z
LAST-MODIFIED:20250709T015727Z
UID:10005515-1793098800-1793106000@www.stjohnaugusta.org
SUMMARY:Clothes Closet open
DESCRIPTION:Tuesdays 11-1pm\nNO Saturdays for now
URL:https://www.stjohnaugusta.org/event/clothes-closet-open-146/
LOCATION:432 8th St\, Augusta\, GA\, United States
GEO:33.456687;-81.969184
END:VEVENT
BEGIN:VEVENT
DTSTART;TZID=America/New_York:20261103T110000
DTEND;TZID=America/New_York:20261103T130000
DTSTAMP:20260421T083532
CREATED:20241103T075212Z
LAST-MODIFIED:20250709T015728Z
UID:10005521-1793703600-1793710800@www.stjohnaugusta.org
SUMMARY:Clothes Closet open
DESCRIPTION:Tuesdays 11-1pm\nNO Saturdays for now
URL:https://www.stjohnaugusta.org/event/clothes-closet-open-147/
LOCATION:432 8th St\, Augusta\, GA\, United States
GEO:33.456687;-81.969184
END:VEVENT
BEGIN:VEVENT
DTSTART;TZID=America/New_York:20261110T110000
DTEND;TZID=America/New_York:20261110T130000
DTSTAMP:20260421T083532
CREATED:20241110T100651Z
LAST-MODIFIED:20250709T015741Z
UID:10005531-1794308400-1794315600@www.stjohnaugusta.org
SUMMARY:Clothes Closet open
DESCRIPTION:Tuesdays 11-1pm\nNO Saturdays for now
URL:https://www.stjohnaugusta.org/event/clothes-closet-open-148/
LOCATION:432 8th St\, Augusta\, GA\, United States
GEO:33.456687;-81.969184
END:VEVENT
BEGIN:VEVENT
DTSTART;TZID=America/New_York:20261117T110000
DTEND;TZID=America/New_York:20261117T130000
DTSTAMP:20260421T083532
CREATED:20241117T122119Z
LAST-MODIFIED:20250709T015742Z
UID:10005539-1794913200-1794920400@www.stjohnaugusta.org
SUMMARY:Clothes Closet open
DESCRIPTION:Tuesdays 11-1pm\nNO Saturdays for now
URL:https://www.stjohnaugusta.org/event/clothes-closet-open-149/
LOCATION:432 8th St\, Augusta\, GA\, United States
GEO:33.456687;-81.969184
END:VEVENT
BEGIN:VEVENT
DTSTART;TZID=America/New_York:20261124T110000
DTEND;TZID=America/New_York:20261124T130000
DTSTAMP:20260421T083532
CREATED:20241124T152212Z
LAST-MODIFIED:20250709T015754Z
UID:10005553-1795518000-1795525200@www.stjohnaugusta.org
SUMMARY:Clothes Closet open
DESCRIPTION:Tuesdays 11-1pm\nNO Saturdays for now
URL:https://www.stjohnaugusta.org/event/clothes-closet-open-150/
LOCATION:432 8th St\, Augusta\, GA\, United States
GEO:33.456687;-81.969184
END:VEVENT
BEGIN:VEVENT
DTSTART;TZID=America/New_York:20261201T110000
DTEND;TZID=America/New_York:20261201T130000
DTSTAMP:20260421T083532
CREATED:20241201T173727Z
LAST-MODIFIED:20250709T015755Z
UID:10005559-1796122800-1796130000@www.stjohnaugusta.org
SUMMARY:Clothes Closet open
DESCRIPTION:Tuesdays 11-1pm\nNO Saturdays for now
URL:https://www.stjohnaugusta.org/event/clothes-closet-open-151/
LOCATION:432 8th St\, Augusta\, GA\, United States
GEO:33.456687;-81.969184
END:VEVENT
BEGIN:VEVENT
DTSTART;TZID=America/New_York:20261208T110000
DTEND;TZID=America/New_York:20261208T130000
DTSTAMP:20260421T083532
CREATED:20241208T202208Z
LAST-MODIFIED:20250709T015755Z
UID:10005566-1796727600-1796734800@www.stjohnaugusta.org
SUMMARY:Clothes Closet open
DESCRIPTION:Tuesdays 11-1pm\nNO Saturdays for now
URL:https://www.stjohnaugusta.org/event/clothes-closet-open-152/
LOCATION:432 8th St\, Augusta\, GA\, United States
GEO:33.456687;-81.969184
END:VEVENT
BEGIN:VEVENT
DTSTART;TZID=America/New_York:20261215T110000
DTEND;TZID=America/New_York:20261215T130000
DTSTAMP:20260421T083532
CREATED:20241215T222029Z
LAST-MODIFIED:20250709T015808Z
UID:10005573-1797332400-1797339600@www.stjohnaugusta.org
SUMMARY:Clothes Closet open
DESCRIPTION:Tuesdays 11-1pm\nNO Saturdays for now
URL:https://www.stjohnaugusta.org/event/clothes-closet-open-153/
LOCATION:432 8th St\, Augusta\, GA\, United States
GEO:33.456687;-81.969184
END:VEVENT
BEGIN:VEVENT
DTSTART;TZID=America/New_York:20261222T110000
DTEND;TZID=America/New_York:20261222T130000
DTSTAMP:20260421T083532
CREATED:20241223T000523Z
LAST-MODIFIED:20250709T015822Z
UID:10005580-1797937200-1797944400@www.stjohnaugusta.org
SUMMARY:Clothes Closet open
DESCRIPTION:Tuesdays 11-1pm\nNO Saturdays for now
URL:https://www.stjohnaugusta.org/event/clothes-closet-open-154/
LOCATION:432 8th St\, Augusta\, GA\, United States
GEO:33.456687;-81.969184
END:VEVENT
BEGIN:VEVENT
DTSTART;TZID=America/New_York:20261229T110000
DTEND;TZID=America/New_York:20261229T130000
DTSTAMP:20260421T083532
CREATED:20241229T013446Z
LAST-MODIFIED:20250709T015822Z
UID:10005584-1798542000-1798549200@www.stjohnaugusta.org
SUMMARY:Clothes Closet open
DESCRIPTION:Tuesdays 11-1pm\nNO Saturdays for now
URL:https://www.stjohnaugusta.org/event/clothes-closet-open-155/
LOCATION:432 8th St\, Augusta\, GA\, United States
GEO:33.456687;-81.969184
END:VEVENT
BEGIN:VEVENT
DTSTART;TZID=America/New_York:20270105T110000
DTEND;TZID=America/New_York:20270105T130000
DTSTAMP:20260421T083532
CREATED:20250105T033428Z
LAST-MODIFIED:20250709T015822Z
UID:10005589-1799146800-1799154000@www.stjohnaugusta.org
SUMMARY:Clothes Closet open
DESCRIPTION:Tuesdays 11-1pm\nNO Saturdays for now
URL:https://www.stjohnaugusta.org/event/clothes-closet-open-156/
LOCATION:432 8th St\, Augusta\, GA\, United States
GEO:33.456687;-81.969184
END:VEVENT
BEGIN:VEVENT
DTSTART;TZID=America/New_York:20270112T110000
DTEND;TZID=America/New_York:20270112T130000
DTSTAMP:20260421T083532
CREATED:20250112T053511Z
LAST-MODIFIED:20250709T015835Z
UID:10005597-1799751600-1799758800@www.stjohnaugusta.org
SUMMARY:Clothes Closet open
DESCRIPTION:Tuesdays 11-1pm\nNO Saturdays for now
URL:https://www.stjohnaugusta.org/event/clothes-closet-open-157/
LOCATION:432 8th St\, Augusta\, GA\, United States
GEO:33.456687;-81.969184
END:VEVENT
BEGIN:VEVENT
DTSTART;TZID=America/New_York:20270119T110000
DTEND;TZID=America/New_York:20270119T130000
DTSTAMP:20260421T083532
CREATED:20250119T071847Z
LAST-MODIFIED:20250709T015835Z
UID:10005707-1800356400-1800363600@www.stjohnaugusta.org
SUMMARY:Clothes Closet open
DESCRIPTION:Tuesdays 11-1pm\nNO Saturdays for now
URL:https://www.stjohnaugusta.org/event/clothes-closet-open-158/
LOCATION:432 8th St\, Augusta\, GA\, United States
GEO:33.456687;-81.969184
END:VEVENT
BEGIN:VEVENT
DTSTART;TZID=America/New_York:20270126T110000
DTEND;TZID=America/New_York:20270126T130000
DTSTAMP:20260421T083532
CREATED:20250126T090432Z
LAST-MODIFIED:20250709T015849Z
UID:10005712-1800961200-1800968400@www.stjohnaugusta.org
SUMMARY:Clothes Closet open
DESCRIPTION:Tuesdays 11-1pm\nNO Saturdays for now
URL:https://www.stjohnaugusta.org/event/clothes-closet-open-159/
LOCATION:432 8th St\, Augusta\, GA\, United States
GEO:33.456687;-81.969184
END:VEVENT
BEGIN:VEVENT
DTSTART;TZID=America/New_York:20270202T110000
DTEND;TZID=America/New_York:20270202T130000
DTSTAMP:20260421T083532
CREATED:20250202T104915Z
LAST-MODIFIED:20250709T015849Z
UID:10005722-1801566000-1801573200@www.stjohnaugusta.org
SUMMARY:Clothes Closet open
DESCRIPTION:Tuesdays 11-1pm\nNO Saturdays for now
URL:https://www.stjohnaugusta.org/event/clothes-closet-open-160/
LOCATION:432 8th St\, Augusta\, GA\, United States
GEO:33.456687;-81.969184
END:VEVENT
BEGIN:VEVENT
DTSTART;TZID=America/New_York:20270209T110000
DTEND;TZID=America/New_York:20270209T130000
DTSTAMP:20260421T083532
CREATED:20250209T121942Z
LAST-MODIFIED:20250709T015902Z
UID:10005736-1802170800-1802178000@www.stjohnaugusta.org
SUMMARY:Clothes Closet open
DESCRIPTION:Tuesdays 11-1pm\nNO Saturdays for now
URL:https://www.stjohnaugusta.org/event/clothes-closet-open-161/
LOCATION:432 8th St\, Augusta\, GA\, United States
GEO:33.456687;-81.969184
END:VEVENT
BEGIN:VEVENT
DTSTART;TZID=America/New_York:20270216T110000
DTEND;TZID=America/New_York:20270216T130000
DTSTAMP:20260421T083532
CREATED:20250216T141958Z
LAST-MODIFIED:20250709T015902Z
UID:10005744-1802775600-1802782800@www.stjohnaugusta.org
SUMMARY:Clothes Closet open
DESCRIPTION:Tuesdays 11-1pm\nNO Saturdays for now
URL:https://www.stjohnaugusta.org/event/clothes-closet-open-162/
LOCATION:432 8th St\, Augusta\, GA\, United States
GEO:33.456687;-81.969184
END:VEVENT
BEGIN:VEVENT
DTSTART;TZID=America/New_York:20270223T110000
DTEND;TZID=America/New_York:20270223T130000
DTSTAMP:20260421T083532
CREATED:20250223T160640Z
LAST-MODIFIED:20250709T015916Z
UID:10005808-1803380400-1803387600@www.stjohnaugusta.org
SUMMARY:Clothes Closet open
DESCRIPTION:Tuesdays 11-1pm\nNO Saturdays for now
URL:https://www.stjohnaugusta.org/event/clothes-closet-open-163/
LOCATION:432 8th St\, Augusta\, GA\, United States
GEO:33.456687;-81.969184
END:VEVENT
BEGIN:VEVENT
DTSTART;TZID=America/New_York:20270302T110000
DTEND;TZID=America/New_York:20270302T130000
DTSTAMP:20260421T083532
CREATED:20250302T190715Z
LAST-MODIFIED:20250709T015916Z
UID:10005814-1803985200-1803992400@www.stjohnaugusta.org
SUMMARY:Clothes Closet open
DESCRIPTION:Tuesdays 11-1pm\nNO Saturdays for now
URL:https://www.stjohnaugusta.org/event/clothes-closet-open-164/
LOCATION:432 8th St\, Augusta\, GA\, United States
GEO:33.456687;-81.969184
END:VEVENT
BEGIN:VEVENT
DTSTART;TZID=America/New_York:20270309T110000
DTEND;TZID=America/New_York:20270309T130000
DTSTAMP:20260421T083532
CREATED:20250309T213430Z
LAST-MODIFIED:20250709T015929Z
UID:10005821-1804590000-1804597200@www.stjohnaugusta.org
SUMMARY:Clothes Closet open
DESCRIPTION:Tuesdays 11-1pm\nNO Saturdays for now
URL:https://www.stjohnaugusta.org/event/clothes-closet-open-165/
LOCATION:432 8th St\, Augusta\, GA\, United States
GEO:33.456687;-81.969184
END:VEVENT
BEGIN:VEVENT
DTSTART;TZID=America/New_York:20270316T110000
DTEND;TZID=America/New_York:20270316T130000
DTSTAMP:20260421T083532
CREATED:20250316T231911Z
LAST-MODIFIED:20250709T015930Z
UID:10005829-1805194800-1805202000@www.stjohnaugusta.org
SUMMARY:Clothes Closet open
DESCRIPTION:Tuesdays 11-1pm\nNO Saturdays for now
URL:https://www.stjohnaugusta.org/event/clothes-closet-open-166/
LOCATION:432 8th St\, Augusta\, GA\, United States
GEO:33.456687;-81.969184
END:VEVENT
BEGIN:VEVENT
DTSTART;TZID=America/New_York:20270323T110000
DTEND;TZID=America/New_York:20270323T130000
DTSTAMP:20260421T083532
CREATED:20250323T005010Z
LAST-MODIFIED:20250709T015944Z
UID:10005837-1805799600-1805806800@www.stjohnaugusta.org
SUMMARY:Clothes Closet open
DESCRIPTION:Tuesdays 11-1pm\nNO Saturdays for now
URL:https://www.stjohnaugusta.org/event/clothes-closet-open-167/
LOCATION:432 8th St\, Augusta\, GA\, United States
GEO:33.456687;-81.969184
END:VEVENT
BEGIN:VEVENT
DTSTART;TZID=America/New_York:20270330T110000
DTEND;TZID=America/New_York:20270330T130000
DTSTAMP:20260421T083532
CREATED:20250330T023337Z
LAST-MODIFIED:20250709T015944Z
UID:10005841-1806404400-1806411600@www.stjohnaugusta.org
SUMMARY:Clothes Closet open
DESCRIPTION:Tuesdays 11-1pm\nNO Saturdays for now
URL:https://www.stjohnaugusta.org/event/clothes-closet-open-168/
LOCATION:432 8th St\, Augusta\, GA\, United States
GEO:33.456687;-81.969184
END:VEVENT
BEGIN:VEVENT
DTSTART;TZID=America/New_York:20270406T110000
DTEND;TZID=America/New_York:20270406T130000
DTSTAMP:20260421T083532
CREATED:20250406T041855Z
LAST-MODIFIED:20250709T015944Z
UID:10005847-1807009200-1807016400@www.stjohnaugusta.org
SUMMARY:Clothes Closet open
DESCRIPTION:Tuesdays 11-1pm\nNO Saturdays for now
URL:https://www.stjohnaugusta.org/event/clothes-closet-open-169/
LOCATION:432 8th St\, Augusta\, GA\, United States
GEO:33.456687;-81.969184
END:VEVENT
BEGIN:VEVENT
DTSTART;TZID=America/New_York:20270413T110000
DTEND;TZID=America/New_York:20270413T130000
DTSTAMP:20260421T083532
CREATED:20250413T060342Z
LAST-MODIFIED:20250709T015957Z
UID:10005853-1807614000-1807621200@www.stjohnaugusta.org
SUMMARY:Clothes Closet open
DESCRIPTION:Tuesdays 11-1pm\nNO Saturdays for now
URL:https://www.stjohnaugusta.org/event/clothes-closet-open-170/
LOCATION:432 8th St\, Augusta\, GA\, United States
GEO:33.456687;-81.969184
END:VEVENT
BEGIN:VEVENT
DTSTART;TZID=America/New_York:20270420T110000
DTEND;TZID=America/New_York:20270420T130000
DTSTAMP:20260421T083532
CREATED:20250420T074841Z
LAST-MODIFIED:20250709T020010Z
UID:10005859-1808218800-1808226000@www.stjohnaugusta.org
SUMMARY:Clothes Closet open
DESCRIPTION:Tuesdays 11-1pm\nNO Saturdays for now
URL:https://www.stjohnaugusta.org/event/clothes-closet-open-171/
LOCATION:432 8th St\, Augusta\, GA\, United States
GEO:33.456687;-81.969184
END:VEVENT
BEGIN:VEVENT
DTSTART;TZID=America/New_York:20270427T110000
DTEND;TZID=America/New_York:20270427T130000
DTSTAMP:20260421T083532
CREATED:20250427T093335Z
LAST-MODIFIED:20250709T020011Z
UID:10005863-1808823600-1808830800@www.stjohnaugusta.org
SUMMARY:Clothes Closet open
DESCRIPTION:Tuesdays 11-1pm\nNO Saturdays for now
URL:https://www.stjohnaugusta.org/event/clothes-closet-open-172/
LOCATION:432 8th St\, Augusta\, GA\, United States
GEO:33.456687;-81.969184
END:VEVENT
END:VCALENDAR