BEGIN:VCALENDAR
VERSION:2.0
PRODID:-//St. John Augusta - ECPv6.14.0//NONSGML v1.0//EN
CALSCALE:GREGORIAN
METHOD:PUBLISH
X-WR-CALNAME:St. John Augusta
X-ORIGINAL-URL:https://www.stjohnaugusta.org
X-WR-CALDESC:Events for St. John Augusta
REFRESH-INTERVAL;VALUE=DURATION:PT1H
X-Robots-Tag:noindex
X-PUBLISHED-TTL:PT1H
BEGIN:VTIMEZONE
TZID:America/New_York
BEGIN:DAYLIGHT
TZOFFSETFROM:-0500
TZOFFSETTO:-0400
TZNAME:EDT
DTSTART:20260308T070000
END:DAYLIGHT
BEGIN:STANDARD
TZOFFSETFROM:-0400
TZOFFSETTO:-0500
TZNAME:EST
DTSTART:20261101T060000
END:STANDARD
BEGIN:DAYLIGHT
TZOFFSETFROM:-0500
TZOFFSETTO:-0400
TZNAME:EDT
DTSTART:20270314T070000
END:DAYLIGHT
BEGIN:STANDARD
TZOFFSETFROM:-0400
TZOFFSETTO:-0500
TZNAME:EST
DTSTART:20271107T060000
END:STANDARD
END:VTIMEZONE
BEGIN:VEVENT
DTSTART;TZID=America/New_York:20260913T110000
DTEND;TZID=America/New_York:20260913T120000
DTSTAMP:20260421T145641
CREATED:20240925T182900Z
LAST-MODIFIED:20250709T015635Z
UID:10005466-1789297200-1789300800@www.stjohnaugusta.org
SUMMARY:Worship
DESCRIPTION:to watch online: Live link: https://www.facebook.com/StJohnAugusta/live/
URL:https://www.stjohnaugusta.org/event/worship-140/
LOCATION:736 Greene St\, Augusta\, GA\, United States
GEO:33.456687;-81.969184
END:VEVENT
BEGIN:VEVENT
DTSTART;TZID=America/New_York:20260919T100000
DTEND;TZID=America/New_York:20260919T130000
DTSTAMP:20260421T145641
CREATED:20240925T182914Z
LAST-MODIFIED:20250709T015649Z
UID:10005475-1789812000-1789822800@www.stjohnaugusta.org
SUMMARY:DCCM drive thru food distribution
DESCRIPTION:In the parking lot behind the church
URL:https://www.stjohnaugusta.org/event/dccm-drive-thru-food-distribution-33/
LOCATION:736 Greene St\, Augusta\, GA\, United States
GEO:33.456687;-81.969184
END:VEVENT
BEGIN:VEVENT
DTSTART;TZID=America/New_York:20260920T110000
DTEND;TZID=America/New_York:20260920T120000
DTSTAMP:20260421T145641
CREATED:20240925T182914Z
LAST-MODIFIED:20250709T015649Z
UID:10005477-1789902000-1789905600@www.stjohnaugusta.org
SUMMARY:Worship
DESCRIPTION:to watch online: Live link: https://www.facebook.com/StJohnAugusta/live/
URL:https://www.stjohnaugusta.org/event/worship-141/
LOCATION:736 Greene St\, Augusta\, GA\, United States
GEO:33.456687;-81.969184
END:VEVENT
BEGIN:VEVENT
DTSTART;TZID=America/New_York:20260927T110000
DTEND;TZID=America/New_York:20260927T120000
DTSTAMP:20260421T145641
CREATED:20240927T192232Z
LAST-MODIFIED:20250709T015702Z
UID:10005483-1790506800-1790510400@www.stjohnaugusta.org
SUMMARY:Worship
DESCRIPTION:to watch online: Live link: https://www.facebook.com/StJohnAugusta/live/
URL:https://www.stjohnaugusta.org/event/worship-142/
LOCATION:736 Greene St\, Augusta\, GA\, United States
GEO:33.456687;-81.969184
END:VEVENT
BEGIN:VEVENT
DTSTART;TZID=America/New_York:20261004T110000
DTEND;TZID=America/New_York:20261004T120000
DTSTAMP:20260421T145641
CREATED:20241004T215240Z
LAST-MODIFIED:20250709T015702Z
UID:10005489-1791111600-1791115200@www.stjohnaugusta.org
SUMMARY:Worship
DESCRIPTION:to watch online: Live link: https://www.facebook.com/StJohnAugusta/live/
URL:https://www.stjohnaugusta.org/event/worship-143/
LOCATION:736 Greene St\, Augusta\, GA\, United States
GEO:33.456687;-81.969184
END:VEVENT
BEGIN:VEVENT
DTSTART;TZID=America/New_York:20261011T110000
DTEND;TZID=America/New_York:20261011T120000
DTSTAMP:20260421T145641
CREATED:20241012T000730Z
LAST-MODIFIED:20250709T015702Z
UID:10005496-1791716400-1791720000@www.stjohnaugusta.org
SUMMARY:Worship
DESCRIPTION:to watch online: Live link: https://www.facebook.com/StJohnAugusta/live/
URL:https://www.stjohnaugusta.org/event/worship-144/
LOCATION:736 Greene St\, Augusta\, GA\, United States
GEO:33.456687;-81.969184
END:VEVENT
BEGIN:VEVENT
DTSTART;TZID=America/New_York:20261017T100000
DTEND;TZID=America/New_York:20261017T130000
DTSTAMP:20260421T145641
CREATED:20241017T020835Z
LAST-MODIFIED:20250709T015715Z
UID:10005503-1792231200-1792242000@www.stjohnaugusta.org
SUMMARY:DCCM drive thru food distribution
DESCRIPTION:In the parking lot behind the church
URL:https://www.stjohnaugusta.org/event/dccm-drive-thru-food-distribution-34/
LOCATION:736 Greene St\, Augusta\, GA\, United States
GEO:33.456687;-81.969184
END:VEVENT
BEGIN:VEVENT
DTSTART;TZID=America/New_York:20261018T110000
DTEND;TZID=America/New_York:20261018T120000
DTSTAMP:20260421T145641
CREATED:20241018T023701Z
LAST-MODIFIED:20250709T015715Z
UID:10005506-1792321200-1792324800@www.stjohnaugusta.org
SUMMARY:Worship
DESCRIPTION:to watch online: Live link: https://www.facebook.com/StJohnAugusta/live/
URL:https://www.stjohnaugusta.org/event/worship-145/
LOCATION:736 Greene St\, Augusta\, GA\, United States
GEO:33.456687;-81.969184
END:VEVENT
BEGIN:VEVENT
DTSTART;TZID=America/New_York:20261025T110000
DTEND;TZID=America/New_York:20261025T120000
DTSTAMP:20260421T145641
CREATED:20241025T043715Z
LAST-MODIFIED:20250709T015727Z
UID:10005513-1792926000-1792929600@www.stjohnaugusta.org
SUMMARY:Worship
DESCRIPTION:to watch online: Live link: https://www.facebook.com/StJohnAugusta/live/
URL:https://www.stjohnaugusta.org/event/worship-146/
LOCATION:736 Greene St\, Augusta\, GA\, United States
GEO:33.456687;-81.969184
END:VEVENT
BEGIN:VEVENT
DTSTART;TZID=America/New_York:20261101T110000
DTEND;TZID=America/New_York:20261101T120000
DTSTAMP:20260421T145641
CREATED:20241101T070805Z
LAST-MODIFIED:20250709T015728Z
UID:10005519-1793530800-1793534400@www.stjohnaugusta.org
SUMMARY:Worship
DESCRIPTION:to watch online: Live link: https://www.facebook.com/StJohnAugusta/live/
URL:https://www.stjohnaugusta.org/event/worship-147/
LOCATION:736 Greene St\, Augusta\, GA\, United States
GEO:33.456687;-81.969184
END:VEVENT
BEGIN:VEVENT
DTSTART;TZID=America/New_York:20261108T110000
DTEND;TZID=America/New_York:20261108T120000
DTSTAMP:20260421T145641
CREATED:20241108T093544Z
LAST-MODIFIED:20250709T015728Z
UID:10005527-1794135600-1794139200@www.stjohnaugusta.org
SUMMARY:Worship
DESCRIPTION:to watch online: Live link: https://www.facebook.com/StJohnAugusta/live/
URL:https://www.stjohnaugusta.org/event/worship-148/
LOCATION:736 Greene St\, Augusta\, GA\, United States
GEO:33.456687;-81.969184
END:VEVENT
BEGIN:VEVENT
DTSTART;TZID=America/New_York:20261115T110000
DTEND;TZID=America/New_York:20261115T120000
DTSTAMP:20260421T145641
CREATED:20241115T115257Z
LAST-MODIFIED:20250709T015742Z
UID:10005536-1794740400-1794744000@www.stjohnaugusta.org
SUMMARY:Worship
DESCRIPTION:to watch online: Live link: https://www.facebook.com/StJohnAugusta/live/
URL:https://www.stjohnaugusta.org/event/worship-149/
LOCATION:736 Greene St\, Augusta\, GA\, United States
GEO:33.456687;-81.969184
END:VEVENT
BEGIN:VEVENT
DTSTART;TZID=America/New_York:20261121T100000
DTEND;TZID=America/New_York:20261121T130000
DTSTAMP:20260421T145641
CREATED:20241121T135157Z
LAST-MODIFIED:20250709T015742Z
UID:10005549-1795255200-1795266000@www.stjohnaugusta.org
SUMMARY:DCCM drive thru food distribution
DESCRIPTION:In the parking lot behind the church
URL:https://www.stjohnaugusta.org/event/dccm-drive-thru-food-distribution-36/
LOCATION:736 Greene St\, Augusta\, GA\, United States
GEO:33.456687;-81.969184
END:VEVENT
BEGIN:VEVENT
DTSTART;TZID=America/New_York:20261122T110000
DTEND;TZID=America/New_York:20261122T120000
DTSTAMP:20260421T145641
CREATED:20241122T142219Z
LAST-MODIFIED:20250709T015742Z
UID:10005551-1795345200-1795348800@www.stjohnaugusta.org
SUMMARY:Worship
DESCRIPTION:to watch online: Live link: https://www.facebook.com/StJohnAugusta/live/
URL:https://www.stjohnaugusta.org/event/worship-150/
LOCATION:736 Greene St\, Augusta\, GA\, United States
GEO:33.456687;-81.969184
END:VEVENT
BEGIN:VEVENT
DTSTART;TZID=America/New_York:20261129T110000
DTEND;TZID=America/New_York:20261129T120000
DTSTAMP:20260421T145641
CREATED:20241129T163722Z
LAST-MODIFIED:20250709T015754Z
UID:10005558-1795950000-1795953600@www.stjohnaugusta.org
SUMMARY:Worship
DESCRIPTION:to watch online: Live link: https://www.facebook.com/StJohnAugusta/live/
URL:https://www.stjohnaugusta.org/event/worship-151/
LOCATION:736 Greene St\, Augusta\, GA\, United States
GEO:33.456687;-81.969184
END:VEVENT
BEGIN:VEVENT
DTSTART;TZID=America/New_York:20261206T110000
DTEND;TZID=America/New_York:20261206T120000
DTSTAMP:20260421T145641
CREATED:20241206T193714Z
LAST-MODIFIED:20250709T015755Z
UID:10005564-1796554800-1796558400@www.stjohnaugusta.org
SUMMARY:Worship
DESCRIPTION:to watch online: Live link: https://www.facebook.com/StJohnAugusta/live/
URL:https://www.stjohnaugusta.org/event/worship-152/
LOCATION:736 Greene St\, Augusta\, GA\, United States
GEO:33.456687;-81.969184
END:VEVENT
BEGIN:VEVENT
DTSTART;TZID=America/New_York:20261213T110000
DTEND;TZID=America/New_York:20261213T120000
DTSTAMP:20260421T145641
CREATED:20241213T214956Z
LAST-MODIFIED:20250709T015808Z
UID:10005568-1797159600-1797163200@www.stjohnaugusta.org
SUMMARY:Worship
DESCRIPTION:to watch online: Live link: https://www.facebook.com/StJohnAugusta/live/
URL:https://www.stjohnaugusta.org/event/worship-153/
LOCATION:736 Greene St\, Augusta\, GA\, United States
GEO:33.456687;-81.969184
END:VEVENT
BEGIN:VEVENT
DTSTART;TZID=America/New_York:20261219T100000
DTEND;TZID=America/New_York:20261219T130000
DTSTAMP:20260421T145641
CREATED:20241219T231932Z
LAST-MODIFIED:20250709T015808Z
UID:10005575-1797674400-1797685200@www.stjohnaugusta.org
SUMMARY:DCCM drive thru food distribution
DESCRIPTION:In the parking lot behind the church
URL:https://www.stjohnaugusta.org/event/dccm-drive-thru-food-distribution-37/
LOCATION:736 Greene St\, Augusta\, GA\, United States
GEO:33.456687;-81.969184
END:VEVENT
BEGIN:VEVENT
DTSTART;TZID=America/New_York:20261220T110000
DTEND;TZID=America/New_York:20261220T120000
DTSTAMP:20260421T145641
CREATED:20241220T233502Z
LAST-MODIFIED:20250709T015808Z
UID:10005578-1797764400-1797768000@www.stjohnaugusta.org
SUMMARY:Worship
DESCRIPTION:to watch online: Live link: https://www.facebook.com/StJohnAugusta/live/
URL:https://www.stjohnaugusta.org/event/worship-154/
LOCATION:736 Greene St\, Augusta\, GA\, United States
GEO:33.456687;-81.969184
END:VEVENT
BEGIN:VEVENT
DTSTART;TZID=America/New_York:20261227T110000
DTEND;TZID=America/New_York:20261227T120000
DTSTAMP:20260421T145641
CREATED:20241227T010410Z
LAST-MODIFIED:20250709T015822Z
UID:10005582-1798369200-1798372800@www.stjohnaugusta.org
SUMMARY:Worship
DESCRIPTION:to watch online: Live link: https://www.facebook.com/StJohnAugusta/live/
URL:https://www.stjohnaugusta.org/event/worship-155/
LOCATION:736 Greene St\, Augusta\, GA\, United States
GEO:33.456687;-81.969184
END:VEVENT
BEGIN:VEVENT
DTSTART;TZID=America/New_York:20270103T110000
DTEND;TZID=America/New_York:20270103T120000
DTSTAMP:20260421T145641
CREATED:20250103T030427Z
LAST-MODIFIED:20250709T015822Z
UID:10005587-1798974000-1798977600@www.stjohnaugusta.org
SUMMARY:Worship
DESCRIPTION:to watch online: Live link: https://www.facebook.com/StJohnAugusta/live/
URL:https://www.stjohnaugusta.org/event/worship-156/
LOCATION:736 Greene St\, Augusta\, GA\, United States
GEO:33.456687;-81.969184
END:VEVENT
BEGIN:VEVENT
DTSTART;TZID=America/New_York:20270110T110000
DTEND;TZID=America/New_York:20270110T120000
DTSTAMP:20260421T145641
CREATED:20250110T050501Z
LAST-MODIFIED:20250709T015835Z
UID:10005592-1799578800-1799582400@www.stjohnaugusta.org
SUMMARY:Worship
DESCRIPTION:to watch online: Live link: https://www.facebook.com/StJohnAugusta/live/
URL:https://www.stjohnaugusta.org/event/worship-157/
LOCATION:736 Greene St\, Augusta\, GA\, United States
GEO:33.456687;-81.969184
END:VEVENT
BEGIN:VEVENT
DTSTART;TZID=America/New_York:20270116T100000
DTEND;TZID=America/New_York:20270116T130000
DTSTAMP:20260421T145641
CREATED:20250116T063516Z
LAST-MODIFIED:20250709T015835Z
UID:10005702-1800093600-1800104400@www.stjohnaugusta.org
SUMMARY:DCCM drive thru food distribution
DESCRIPTION:In the parking lot behind the church
URL:https://www.stjohnaugusta.org/event/dccm-drive-thru-food-distribution-38/
LOCATION:736 Greene St\, Augusta\, GA\, United States
GEO:33.456687;-81.969184
END:VEVENT
BEGIN:VEVENT
DTSTART;TZID=America/New_York:20270117T110000
DTEND;TZID=America/New_York:20270117T120000
DTSTAMP:20260421T145641
CREATED:20250117T064847Z
LAST-MODIFIED:20250709T015835Z
UID:10005704-1800183600-1800187200@www.stjohnaugusta.org
SUMMARY:Worship
DESCRIPTION:to watch online: Live link: https://www.facebook.com/StJohnAugusta/live/
URL:https://www.stjohnaugusta.org/event/worship-158/
LOCATION:736 Greene St\, Augusta\, GA\, United States
GEO:33.456687;-81.969184
END:VEVENT
BEGIN:VEVENT
DTSTART;TZID=America/New_York:20270124T110000
DTEND;TZID=America/New_York:20270124T120000
DTSTAMP:20260421T145641
CREATED:20250124T083416Z
LAST-MODIFIED:20250709T015849Z
UID:10005710-1800788400-1800792000@www.stjohnaugusta.org
SUMMARY:Worship
DESCRIPTION:to watch online: Live link: https://www.facebook.com/StJohnAugusta/live/
URL:https://www.stjohnaugusta.org/event/worship-159/
LOCATION:736 Greene St\, Augusta\, GA\, United States
GEO:33.456687;-81.969184
END:VEVENT
BEGIN:VEVENT
DTSTART;TZID=America/New_York:20270131T110000
DTEND;TZID=America/New_York:20270131T120000
DTSTAMP:20260421T145641
CREATED:20250131T102026Z
LAST-MODIFIED:20250709T015849Z
UID:10005720-1801393200-1801396800@www.stjohnaugusta.org
SUMMARY:Worship
DESCRIPTION:to watch online: Live link: https://www.facebook.com/StJohnAugusta/live/
URL:https://www.stjohnaugusta.org/event/worship-160/
LOCATION:736 Greene St\, Augusta\, GA\, United States
GEO:33.456687;-81.969184
END:VEVENT
BEGIN:VEVENT
DTSTART;TZID=America/New_York:20270207T110000
DTEND;TZID=America/New_York:20270207T120000
DTSTAMP:20260421T145641
CREATED:20250207T114935Z
LAST-MODIFIED:20250709T015849Z
UID:10005732-1801998000-1802001600@www.stjohnaugusta.org
SUMMARY:Worship
DESCRIPTION:to watch online: Live link: https://www.facebook.com/StJohnAugusta/live/
URL:https://www.stjohnaugusta.org/event/worship-161/
LOCATION:736 Greene St\, Augusta\, GA\, United States
GEO:33.456687;-81.969184
END:VEVENT
BEGIN:VEVENT
DTSTART;TZID=America/New_York:20270214T110000
DTEND;TZID=America/New_York:20270214T120000
DTSTAMP:20260421T145641
CREATED:20250214T135004Z
LAST-MODIFIED:20250709T015902Z
UID:10005741-1802602800-1802606400@www.stjohnaugusta.org
SUMMARY:Worship
DESCRIPTION:to watch online: Live link: https://www.facebook.com/StJohnAugusta/live/
URL:https://www.stjohnaugusta.org/event/worship-162/
LOCATION:736 Greene St\, Augusta\, GA\, United States
GEO:33.456687;-81.969184
END:VEVENT
BEGIN:VEVENT
DTSTART;TZID=America/New_York:20270220T100000
DTEND;TZID=America/New_York:20270220T130000
DTSTAMP:20260421T145641
CREATED:20250220T150455Z
LAST-MODIFIED:20250709T015902Z
UID:10005801-1803117600-1803128400@www.stjohnaugusta.org
SUMMARY:DCCM drive thru food distribution
DESCRIPTION:In the parking lot behind the church
URL:https://www.stjohnaugusta.org/event/dccm-drive-thru-food-distribution-39/
LOCATION:736 Greene St\, Augusta\, GA\, United States
GEO:33.456687;-81.969184
END:VEVENT
BEGIN:VEVENT
DTSTART;TZID=America/New_York:20270221T110000
DTEND;TZID=America/New_York:20270221T120000
DTSTAMP:20260421T145641
CREATED:20250221T152101Z
LAST-MODIFIED:20250709T015915Z
UID:10005804-1803207600-1803211200@www.stjohnaugusta.org
SUMMARY:Worship
DESCRIPTION:to watch online: Live link: https://www.facebook.com/StJohnAugusta/live/
URL:https://www.stjohnaugusta.org/event/worship-163/
LOCATION:736 Greene St\, Augusta\, GA\, United States
GEO:33.456687;-81.969184
END:VEVENT
END:VCALENDAR