BEGIN:VCALENDAR
VERSION:2.0
PRODID:-//St. John Augusta - ECPv6.14.0//NONSGML v1.0//EN
CALSCALE:GREGORIAN
METHOD:PUBLISH
X-WR-CALNAME:St. John Augusta
X-ORIGINAL-URL:https://www.stjohnaugusta.org
X-WR-CALDESC:Events for St. John Augusta
REFRESH-INTERVAL;VALUE=DURATION:PT1H
X-Robots-Tag:noindex
X-PUBLISHED-TTL:PT1H
BEGIN:VTIMEZONE
TZID:America/New_York
BEGIN:DAYLIGHT
TZOFFSETFROM:-0500
TZOFFSETTO:-0400
TZNAME:EDT
DTSTART:20270314T070000
END:DAYLIGHT
BEGIN:STANDARD
TZOFFSETFROM:-0400
TZOFFSETTO:-0500
TZNAME:EST
DTSTART:20271107T060000
END:STANDARD
END:VTIMEZONE
BEGIN:VEVENT
DTSTART;TZID=America/New_York:20270613T110000
DTEND;TZID=America/New_York:20270613T120000
DTSTAMP:20260421T223556
CREATED:20250613T210155Z
LAST-MODIFIED:20250709T020053Z
UID:10005902-1812884400-1812888000@www.stjohnaugusta.org
SUMMARY:Worship
DESCRIPTION:to watch online: Live link: https://www.facebook.com/StJohnAugusta/live/
URL:https://www.stjohnaugusta.org/event/worship-179/
LOCATION:736 Greene St\, Augusta\, GA\, United States
GEO:33.456687;-81.969184
END:VEVENT
BEGIN:VEVENT
DTSTART;TZID=America/New_York:20270619T100000
DTEND;TZID=America/New_York:20270619T130000
DTSTAMP:20260421T223556
CREATED:20250619T211721Z
LAST-MODIFIED:20250709T020054Z
UID:10005908-1813399200-1813410000@www.stjohnaugusta.org
SUMMARY:DCCM drive thru food distribution
DESCRIPTION:In the parking lot behind the church
URL:https://www.stjohnaugusta.org/event/dccm-drive-thru-food-distribution-43/
LOCATION:736 Greene St\, Augusta\, GA\, United States
GEO:33.456687;-81.969184
END:VEVENT
BEGIN:VEVENT
DTSTART;TZID=America/New_York:20270620T110000
DTEND;TZID=America/New_York:20270620T120000
DTSTAMP:20260421T223556
CREATED:20250620T213154Z
LAST-MODIFIED:20250709T020107Z
UID:10005909-1813489200-1813492800@www.stjohnaugusta.org
SUMMARY:Worship
DESCRIPTION:to watch online: Live link: https://www.facebook.com/StJohnAugusta/live/
URL:https://www.stjohnaugusta.org/event/worship-180/
LOCATION:736 Greene St\, Augusta\, GA\, United States
GEO:33.456687;-81.969184
END:VEVENT
BEGIN:VEVENT
DTSTART;TZID=America/New_York:20270627T110000
DTEND;TZID=America/New_York:20270627T120000
DTSTAMP:20260421T223556
CREATED:20250627T231628Z
LAST-MODIFIED:20250709T020107Z
UID:10005914-1814094000-1814097600@www.stjohnaugusta.org
SUMMARY:Worship
DESCRIPTION:to watch online: Live link: https://www.facebook.com/StJohnAugusta/live/
URL:https://www.stjohnaugusta.org/event/worship-181/
LOCATION:736 Greene St\, Augusta\, GA\, United States
GEO:33.456687;-81.969184
END:VEVENT
BEGIN:VEVENT
DTSTART;TZID=America/New_York:20270704T110000
DTEND;TZID=America/New_York:20270704T120000
DTSTAMP:20260421T223556
CREATED:20250704T004629Z
LAST-MODIFIED:20250709T020107Z
UID:10005926-1814698800-1814702400@www.stjohnaugusta.org
SUMMARY:Worship
DESCRIPTION:to watch online: Live link: https://www.facebook.com/StJohnAugusta/live/
URL:https://www.stjohnaugusta.org/event/worship-182/
LOCATION:736 Greene St\, Augusta\, GA\, United States
GEO:33.456687;-81.969184
END:VEVENT
END:VCALENDAR